BEGIN:VCALENDAR
VERSION:2.0
PRODID:-//eventon.com NONSGML v1.0//EN
CALSCALE:GREGORIAN
METHOD:PUBLISH
BEGIN:VEVENT
UID:69e9f12b102a2
DTSTAMP:20260423T101507Z
DTSTART:20260711T173000Z
DTEND:20260711T210500Z
LOCATION:
SUMMARY:Kahnnacht Luckau
DESCRIPTION:Kahnnacht Luckau\nhttps://www.wir-sind-luckau.de/events/kahnnac
 ht-luckau-3/
URL:https://www.wir-sind-luckau.de/events/kahnnacht-luckau-3/
END:VEVENT
END:VCALENDAR